BEGIN:VCALENDAR
VERSION:2.0
CALSCALE:GREGORIAN
PRODID:-//MyApp//Calendar 1.0//EN
BEGIN:VEVENT
METHOD:PUBLISH
UID:32166@regionalniportaly.cz
DTSTAMP:20260422T104227Z
DTSTART;VALUE=DATE:20230419
DTEND;VALUE=DATE:20230420
SUMMARY:Eight cups and the Devil
DESCRIPTION:Eight cups and the Devil je taneční divadlo vždy znova utvářené performery a&nbsp\;improvizátory Robertou Legros Štěpánkovou a&nbsp\;Tomášem Janypkou se zvukovým doprovodem Ivana Palackého a&nbsp\;živým světelným designem Matthieu Legrose. Tyto tři vrstvy významů - tanec\, zvuk a&nbsp\;světlo - jsou na&nbsp\;scéně v&nbsp\;neustálé komunikaci a&nbsp\;vznikají z&nbsp\;přesné\, ale spontánní sou-hry umělců v&nbsp\;reálném čase.Východiskem je vztah dvou lidí\, kteří „spolu žijí a&nbsp\;nevědí o&nbsp\;tom“ a&nbsp\;tarotové karty vytáhnuté umělci na&nbsp\;počátku tvorby. Dílo je založeno na&nbsp\;každodennosti života každého z&nbsp\;nás\, muže a&nbsp\;ženy. Performéři prostupují za&nbsp\;hranice běžné reality do&nbsp\;atmosféry sna\, surreálna až absurdna.S humorem a&nbsp\;poezií\, nás umělci přenáší do&nbsp\;našeho podvědomí\, ze&nbsp\;kterého se objevuje intenzivní svět symbolů. Ten je díky akčnímu potenciálu umělců obnoven v&nbsp\;každém novém uvedení.
LOCATION:Brno
END:VEVENT
END:VCALENDAR