BEGIN:VCALENDAR
VERSION:2.0
CALSCALE:GREGORIAN
PRODID:-//MyApp//Calendar 1.0//EN
BEGIN:VEVENT
METHOD:PUBLISH
UID:32221@regionalniportaly.cz
DTSTAMP:20260422T001314Z
DTSTART;VALUE=DATE:20230421
DTEND;VALUE=DATE:20230422
SUMMARY:GO Kamera 2023 : Petr Horký\, Václav Cílek
DESCRIPTION:CESTOVATELSKÝ FESTIVAL&nbsp\;GO KAMERA 20.04. - 23.04.2023&nbsp\;pořádá CK LIVINGSTONE. Každoročně hostí přes 50 účinkujících. O nejlepší filmy\, fotografie a zážitky z cest se dělí známí cestovatelé a dobrodruzi\, nejlepší horolezci\, fotografové\, publicisté…17:00&nbsp\;&nbsp\;PETR HORKÝ\, polárník: 3 PÓLY&nbsp\; &nbsp\; &nbsp\; &nbsp\; &nbsp\; &nbsp\; &nbsp\; &nbsp\; &nbsp\; &nbsp\; &nbsp\; &nbsp\; &nbsp\; &nbsp\; &nbsp\; &nbsp\; &nbsp\; &nbsp\; &nbsp\; &nbsp\;&nbsp\;VÁCLAV CÍLEK\, geolog: JAK SE MĚNÍ SVĚT A CO S TÍM DĚLAT&nbsp\;&nbsp\;&nbsp\;
LOCATION:Brno
END:VEVENT
END:VCALENDAR