BEGIN:VCALENDAR
VERSION:2.0
CALSCALE:GREGORIAN
PRODID:-//MyApp//Calendar 1.0//EN
BEGIN:VEVENT
METHOD:PUBLISH
UID:32226@regionalniportaly.cz
DTSTAMP:20260421T171056Z
DTSTART;VALUE=DATE:20230422
DTEND;VALUE=DATE:20230423
SUMMARY:GO Kamera 2023 : Švaříček\, Holeček
DESCRIPTION:CESTOVATELSKÝ FESTIVAL&nbsp\;GO KAMERA 20.04.&nbsp\;- 23.04.2023&nbsp\;pořádá CK LIVINGSTONE. Každoročně hostí přes 50 účinkujících. O nejlepší filmy\, fotografie a zážitky z cest se dělí známí cestovatelé a dobrodruzi\, nejlepší horolezci\, fotografové\, publicisté…19:00&nbsp\;&nbsp\;&nbsp\;RUDA ŠVAŘÍCEK\, cestovatel: NEJ TREKY V NEPÁLUMAREK HOLEČEK\, horolezec: HORSKÉ EXTRÉMY&nbsp\;
LOCATION:Brno
END:VEVENT
END:VCALENDAR