BEGIN:VCALENDAR
VERSION:2.0
CALSCALE:GREGORIAN
PRODID:-//MyApp//Calendar 1.0//EN
BEGIN:VEVENT
METHOD:PUBLISH
UID:32230@regionalniportaly.cz
DTSTAMP:20260421T204450Z
DTSTART;VALUE=DATE:20230422
DTEND;VALUE=DATE:20230423
SUMMARY:C. G. Jung – filozofie a psychologie
DESCRIPTION:Carl Gustav Jung\, zakladatel analytické psychologie\, nabyl přesvědčení\, že svět duše je stejně skutečný jako ten hmotný a že kromě prožitků v bdělém stavu může člověk využít i nevědomé elementy\, jako jsou sny či archetypální obsahy mýtů.&nbsp\;Toto poznání je pak možné využít nejen k léčení nemocí duše\, ale také k neméně důležitému procesu\, kterým je sebepoznání a osobní rozvoj. Jung se pokusil vytvořit mosty mezi světy\, které se do té doby zdály neslučitelné.&nbsp\;Vydejme se spolu alespoň na kousek cesty za poznáním duše\, kterou nám ukázal.&nbsp\;Obsah kurzu:Život C. G. Junga a základy psychologiePojetí člověka – vědomí\, osobní nevědomí\, kolektivní nevědomíPřátelství a spolupráce se Sigmundem Freudem - psychoanalýzaIndividuace&nbsp\;Rozvoj osobnosti a psychologické typyTypy zaměření: extraverze\, introverzeFunkční typy: vnímání\, intuice\, myšlení\, cítění&nbsp\;Symboly\, mytologie a alchymieAnalytická psychologieArchetypy\, symboly a mýty
LOCATION:Brno
END:VEVENT
END:VCALENDAR