BEGIN:VCALENDAR
VERSION:2.0
CALSCALE:GREGORIAN
PRODID:-//MyApp//Calendar 1.0//EN
BEGIN:VEVENT
METHOD:PUBLISH
UID:32336@regionalniportaly.cz
DTSTAMP:20260421T164514Z
DTSTART;VALUE=DATE:20230419
DTEND;VALUE=DATE:20230420
SUMMARY:Írán - cesta po dálné Persii
DESCRIPTION:Vydejte se s námi za vůní tajemného orientu do daleké Persie\, kde na vás přátelští lidé volají "Welcome to Iran" hned po vystoupení z autobusu. Společně vás provedeme od Teheránu po Ostrov Queshm a během našeho vyprávění budeme putovat mezi nádhernými mešitami\, hliněnými městečky\, horskými vesničkami\,&nbsp\; zoroastriánskymi památkami\, nekonečnými bazary a objevíme neobyčejné kouzlo dávné Persepole.&nbsp\;
LOCATION:Brno
END:VEVENT
END:VCALENDAR