BEGIN:VCALENDAR
VERSION:2.0
CALSCALE:GREGORIAN
PRODID:-//MyApp//Calendar 1.0//EN
BEGIN:VEVENT
METHOD:PUBLISH
UID:32355@regionalniportaly.cz
DTSTAMP:20260421T171106Z
DTSTART;VALUE=DATE:20230422
DTEND;VALUE=DATE:20230423
SUMMARY:YOUNGSTERS::::GOODNIGHT NOBODY
DESCRIPTION:Žily byly jednou dvě paní spisovatelky. (goodnight\, realito)Za sedmero plážemi a devatero karaoke bary. (goodnight\, whiskey sodo)Za dávných časů živých loutek a plmeňákovitých hvězd. (goodnight\, Nicholasi)To bylo ještě v době\, kdy neexistovaly knihovny pro děti\, protože neexistovaly děti\, které by někdo poslouchal. (goodnight\, děti)Ty dvě paní chodily obě večer spát\, ale každá myslela při usínání na něco jiného. (goodnight)&nbsp\;Ale obě si to zapisovaly\, aby se později mohlo ukázat\, která z nich má při usínání myšlenky správnější. (goodnight!)A tak se dohadovaly\, co je vhodné a nevhodné. (goodnight\, NEDOPORUČENO PRO DĚTI DLE EXPERTA)Hádaly se\, hádaly\, a jestli se nedohádaly\, tak se hádají dodnes. (goodnight\, nikdo)&nbsp\;Kdo smí vybírat vhodnou realitu (nejen) pro děti? Co znamená uspět jako žena na poli\, o které muži nemají zájem? Máme realitu konfrontovat\, nebo od ní umět odpočívat? A jak se vyrovnat s tím\, o čem nám nikdo nevyprávěl?
LOCATION:Brno
END:VEVENT
END:VCALENDAR