BEGIN:VCALENDAR
VERSION:2.0
CALSCALE:GREGORIAN
PRODID:-//MyApp//Calendar 1.0//EN
BEGIN:VEVENT
METHOD:PUBLISH
UID:32363@regionalniportaly.cz
DTSTAMP:20260421T185651Z
DTSTART;VALUE=DATE:20230427
DTEND;VALUE=DATE:20230428
SUMMARY:Chorvatsko známé i neznámé / Jakub Večeřa
DESCRIPTION:Jedněmi milované\, druhými podceňované. Přestože do Chorvatska ročně zavítají statisíce českých turistů\, ne každý ví\, co tato země skutečně nabízí. Nejsou to totiž jen krásné pláže vybízející k letnímu odpočinku\, dechberoucí kulturní a přírodní bohatství slibuje nevšední zážitky v kterémkoli ročním období. I na první pohled dokonalé místo k životu se však potýká s více či méně závažnými problémy.Dnes již vystudovaný kroatista\, který v pouhých 23 letech začal cestovat sám a bez automobilu nejen po Chorvatsku\, ale i Bosně a Černé Hoře\, vás vezme na zajímavá místa\, o jejichž existenci jste možná neměli ani tušení\, dozvíte se\, čím potěšit své chuťové pohárky\, ale třeba také to\, proč je na Balkáně cestování místní dopravou občas pěkné dobrodružství.Datum a čas: čtvrtek 27. 4. 2023\, 19:00 hPřednáší: Jakub Večeřa
LOCATION:Brno
END:VEVENT
END:VCALENDAR