BEGIN:VCALENDAR
VERSION:2.0
CALSCALE:GREGORIAN
PRODID:-//MyApp//Calendar 1.0//EN
BEGIN:VEVENT
METHOD:PUBLISH
UID:32378@regionalniportaly.cz
DTSTAMP:20260421T223133Z
DTSTART;VALUE=DATE:20230420
DTEND;VALUE=DATE:20230421
SUMMARY:Umění přesvědčivé komunikace
DESCRIPTION:Vážení\,rádi bychom Vás pozvali na náš kurz komunikace\, který se bude konat v našem areálu. Kurz je určen pro všechny\, kdo chtějí zlepšit své komunikační schopnosti a naučit se efektivněji komunikovat s ostatními.V kurzu se budeme věnovat různým typům komunikace a technikám\, které pomohou zlepšit Vaše schopnosti v oblasti verbální i neverbální komunikace. Naučíte se\, jak správně vyjadřovat své názory\, jak poslouchat a porozumět ostatním a jak se vyhnout konfliktům.Náš kurz bude veden zkušenou&nbsp\;lektorkou\, která&nbsp\;Vám předají své znalosti a vědomosti z oblasti komunikace. Kurz je interaktivní\, což znamená\, že se nebudete jenom poslouchat\, ale i aktivně zapojíte do různých cvičení a příkladů.Přijďte se naučit\, jak komunikovat efektivněji a zlepšit Vaše vztahy s ostatními.&nbsp\;&nbsp\;CO SE NAUČÍTE A&nbsp\;PROCVIČÍTE?• Základy rétoriky a komunikace• Jak funguje náš mozek&nbsp\;–jak přemýšlíme• Jazyková a hlasová cvičení• Psychologie komunikace• Jak navázat kontakt s&nbsp\;klientem• Řeč těla• Zakázané techniky• Zásady vystupování a chovánípři komunikaci s&nbsp\;klientemObčerstvení je zahrnuto v&nbsp\;ceně workshopu.Kurz je značně praktický a nadmíru interaktivní\,proto je kapacita omezena na 18&nbsp\;osob.
LOCATION:Brno
END:VEVENT
END:VCALENDAR