BEGIN:VCALENDAR
VERSION:2.0
CALSCALE:GREGORIAN
PRODID:-//MyApp//Calendar 1.0//EN
BEGIN:VEVENT
METHOD:PUBLISH
UID:32384@regionalniportaly.cz
DTSTAMP:20260421T165940Z
DTSTART;VALUE=DATE:20230421
DTEND;VALUE=DATE:20230422
SUMMARY:Buď chlap!
DESCRIPTION:
LOCATION:Měnín
END:VEVENT
END:VCALENDAR