BEGIN:VCALENDAR
VERSION:2.0
CALSCALE:GREGORIAN
PRODID:-//MyApp//Calendar 1.0//EN
BEGIN:VEVENT
METHOD:PUBLISH
UID:32423@regionalniportaly.cz
DTSTAMP:20260421T204521Z
DTSTART;VALUE=DATE:20230422
DTEND;VALUE=DATE:20230423
SUMMARY:Volejbal Extraliga Ženy - SEMIFINÁLE: KP Brno - VK Prostějov
DESCRIPTION:32. kolo UNIQA Extraligy žen ve volejbale.
LOCATION:Brno
END:VEVENT
END:VCALENDAR