BEGIN:VCALENDAR
VERSION:2.0
CALSCALE:GREGORIAN
PRODID:-//MyApp//Calendar 1.0//EN
BEGIN:VEVENT
METHOD:PUBLISH
UID:32427@regionalniportaly.cz
DTSTAMP:20260421T171220Z
DTSTART;VALUE=DATE:20230426
DTEND;VALUE=DATE:20230427
SUMMARY:Cesta domů
DESCRIPTION:Česko\, 2021\, 92 min
LOCATION:Brno
END:VEVENT
END:VCALENDAR