BEGIN:VCALENDAR
VERSION:2.0
CALSCALE:GREGORIAN
PRODID:-//MyApp//Calendar 1.0//EN
BEGIN:VEVENT
METHOD:PUBLISH
UID:32457@regionalniportaly.cz
DTSTAMP:20260421T204511Z
DTSTART;VALUE=DATE:20230420
DTEND;VALUE=DATE:20230421
SUMMARY:Malý koncert komorní hudby
DESCRIPTION:První premiérou druhé sezóny Malých koncertů komorní hudby ve vile Löw-Beer bude Trialog od Kateřiny Szymeckové. Můžete se těšit na stěžejní skladby pro dechové trio od Klementa Slavického nebo Henriho Tomasiho\, i na Pavoučí suitu americké autorky Jenni Brandon. Program doplní skladba britského skladatele Iana Clarka pro sólovou flétnu The Great Train Race v&nbsp\;podání studentky Konzervatoře Brno Daniely Bártkové.&nbsp\;ProgramKateřina Szymecková - Trialog - PREMIÉRAHenri Tomasi - Concert ChampetreIan Clarke - The great train race Klement Slavický - TrioJenni Brandon - Spider suite&nbsp\;InterpretiTrio Aperto - Barbora Šteflová - hoboj\, Jan Charfreitag - klarinet\, Pavel Horák - fagotDaniela Bártková - příčná flétna
LOCATION:Brno
END:VEVENT
END:VCALENDAR