BEGIN:VCALENDAR
VERSION:2.0
CALSCALE:GREGORIAN
PRODID:-//MyApp//Calendar 1.0//EN
BEGIN:VEVENT
METHOD:PUBLISH
UID:32488@regionalniportaly.cz
DTSTAMP:20260421T223125Z
DTSTART;VALUE=DATE:20230422
DTEND;VALUE=DATE:20230423
SUMMARY:Bílý dům – komentovaná prohlídka
DESCRIPTION:Bílý dům v&nbsp\;Brně od&nbsp\;arch. Miroslava Spurného představuje jednu z&nbsp\;posledních architektonických památek 2. pol. 20 století s&nbsp\;přímou návazností na&nbsp\;historické centrum města. Původní sídlo Městského výboru KSČ a&nbsp\;Domu politické výchovy\, dnes tzv. Bílý dům\, byl postaven v&nbsp\;letech 1974–76 a&nbsp\;dnes se v&nbsp\;něm nachází řada funkcí od&nbsp\;dětské polikliniky\, laboratorní základní školy až po&nbsp\;kavárnu. Sál Břetislava Bakaly s&nbsp\;kapacitou 300 míst je dnes nefunkční a&nbsp\;veřejnosti uzavřen. Přestože jde o&nbsp\;unikátní stavbu pozdní moderny\, hrozila jí demolice a&nbsp\;její budoucnost je stále v&nbsp\;ohrožení. Bílým domem vás&nbsp\;provede historička architektury a&nbsp\;kurátorka Šárka Svobodová\, zabývající se dlouhodobě poválečnou architekturou\, a&nbsp\;architektka Eva Truncová. Společně projdeme celý dům od&nbsp\;suterénu\, přes foyer až na&nbsp\;střešní terasu\, kde můžeme sledovat modernistické principy navrhování a&nbsp\;zároveň upozornit na&nbsp\;to\, proč je Bílý dům hodnotnou architektonicko-kulturní památkou.Komentovaná procházka se koná v rámci programu Brno Art Week.Sraz je venku před&nbsp\;hlavním vstupem do&nbsp\;polikliniky u&nbsp\;sochy Mima. Kapacita je omezena na&nbsp\;35 osob. Vstupné na&nbsp\;komentovanou prohlídku je 100&nbsp\;Kč.
LOCATION:Brno
END:VEVENT
END:VCALENDAR