BEGIN:VCALENDAR
VERSION:2.0
CALSCALE:GREGORIAN
PRODID:-//MyApp//Calendar 1.0//EN
BEGIN:VEVENT
METHOD:PUBLISH
UID:65696@regionalniportaly.cz
DTSTAMP:20260421T162625Z
DTSTART;VALUE=DATE:20260530
DTEND;VALUE=DATE:20260531
SUMMARY:Tyršova společnost + Septum šejdrem
DESCRIPTION:Tyršova Společnost - Psal se rok 1989\, byl podzim a 2 kytaristé společně s 1 textařem položili základní kámen legendární kapely tuřanského undergroundu....Septum šejdrem - tříčlenná punk-rocková kapela z Brna\, ve které každý z nás přináší jiné hudební vlivy. Spojuje nás energie punku\, ale místo tradičních témat české punkové scény se soustředíme spíš na hledání sebe sama\, osobní boje a každodenní realitu.&nbsp\;
LOCATION:Brno
END:VEVENT
END:VCALENDAR