BEGIN:VCALENDAR
VERSION:2.0
CALSCALE:GREGORIAN
PRODID:-//MyApp//Calendar 1.0//EN
BEGIN:VEVENT
METHOD:PUBLISH
UID:65705@regionalniportaly.cz
DTSTAMP:20260421T132206Z
DTSTART;VALUE=DATE:20260505
DTEND;VALUE=DATE:20260506
SUMMARY:Írán dnes!
DESCRIPTION:Írán\, kolébka civilizace\, dnes v médiích zabírá místo kvůli protestům\, demonstracím a zapojení do konfliktů nejen na Blízkém východě. Jak vypadá cestování po dnešním Íránu\, jaká je v zemi situace a jak se kdysi bohatá a mocná Persie dostala tam\, kde dnes je\, ale také o Peršanech\, Kurdech\, Balúčech a Arabech\, povypráví Lenka Hrabalová\, která zemi navštěvuje už patnáct let.
LOCATION:Brno
END:VEVENT
END:VCALENDAR