BEGIN:VCALENDAR
VERSION:2.0
CALSCALE:GREGORIAN
PRODID:-//MyApp//Calendar 1.0//EN
BEGIN:VEVENT
METHOD:PUBLISH
UID:65736@regionalniportaly.cz
DTSTAMP:20260422T104145Z
DTSTART;VALUE=DATE:20260512
DTEND;VALUE=DATE:20260513
SUMMARY:ARTBAR PARTY 2026 is the new 2016
DESCRIPTION:2026 IS THE NEW 2016&nbsp\;
LOCATION:Brno
END:VEVENT
END:VCALENDAR