BEGIN:VCALENDAR
VERSION:2.0
CALSCALE:GREGORIAN
PRODID:-//MyApp//Calendar 1.0//EN
BEGIN:VEVENT
METHOD:PUBLISH
UID:65754@regionalniportaly.cz
DTSTAMP:20260422T065403Z
DTSTART;VALUE=DATE:20260605
DTEND;VALUE=DATE:20260606
SUMMARY:PŘEMŽITKY - křest alba
DESCRIPTION:Přemžitky po necelém roce na scéně vydávají své debutové album. Přijďte ho s nimi pokřtít a zažít večer plný „moravského soulu“!
LOCATION:Brno
END:VEVENT
END:VCALENDAR