BEGIN:VCALENDAR
VERSION:2.0
CALSCALE:GREGORIAN
PRODID:-//MyApp//Calendar 1.0//EN
BEGIN:VEVENT
METHOD:PUBLISH
UID:65757@regionalniportaly.cz
DTSTAMP:20260422T064543Z
DTSTART;VALUE=DATE:20261006
DTEND;VALUE=DATE:20261007
SUMMARY:James Harries
DESCRIPTION:Koncert Jamese&nbsp\;Harriese&nbsp\;je pozvánkou do&nbsp\;intimního světa písní\, které dokážou na&nbsp\;chvíli zastavit čas. Renomovaný britský písničkář a&nbsp\;filmový skladatel přináší křehký\, soustředěný a&nbsp\;zároveň silný zážitek na&nbsp\;pomezí melancholie a&nbsp\;hravé euforie. Se&nbsp\;svým „zlatým hlasem“\, lyrickým výrazem&nbsp\;představí&nbsp\;nejnovější album&nbsp\;Love &amp\;&nbsp\;Desire\, zařazené na&nbsp\;shortlist&nbsp\;Cen Anděl&nbsp\;za rok&nbsp\;2025.&nbsp\;&nbsp\;
LOCATION:Brno
END:VEVENT
END:VCALENDAR