BEGIN:VCALENDAR
VERSION:2.0
CALSCALE:GREGORIAN
PRODID:-//MyApp//Calendar 1.0//EN
BEGIN:VEVENT
METHOD:PUBLISH
UID:65789@regionalniportaly.cz
DTSTAMP:20260422T065900Z
DTSTART;VALUE=DATE:20260519
DTEND;VALUE=DATE:20260520
SUMMARY:Etno Jaro 2026 – Trombenik
DESCRIPTION:Trombenik\, klezmerKlezmerová kapela\, která evokuje divoké tancovačky na židovských i gojim svatbách. Citlivé posluchačovo ucho si smlsne na ozvěnách balkánu\, cikánských písních a v první řadě židovské hudby.Karel Bělohradský – kontrabasRadek Rýda – banjoVojtěch Pošmourný – houslePepino von Dráček – klarinetAdam Krejčík – bicí
LOCATION:Brno
END:VEVENT
END:VCALENDAR